BEGIN:VCALENDAR
VERSION:2.0
PRODID:-//Graves Gilbert Clinic - ECPv6.15.20//NONSGML v1.0//EN
CALSCALE:GREGORIAN
METHOD:PUBLISH
X-ORIGINAL-URL:https://www.gravesgilbert.com
X-WR-CALDESC:Events for Graves Gilbert Clinic
REFRESH-INTERVAL;VALUE=DURATION:PT1H
X-Robots-Tag:noindex
X-PUBLISHED-TTL:PT1H
BEGIN:VTIMEZONE
TZID:America/Chicago
BEGIN:DAYLIGHT
TZOFFSETFROM:-0600
TZOFFSETTO:-0500
TZNAME:CDT
DTSTART:20180311T080000
END:DAYLIGHT
BEGIN:STANDARD
TZOFFSETFROM:-0500
TZOFFSETTO:-0600
TZNAME:CST
DTSTART:20181104T070000
END:STANDARD
BEGIN:DAYLIGHT
TZOFFSETFROM:-0600
TZOFFSETTO:-0500
TZNAME:CDT
DTSTART:20190310T080000
END:DAYLIGHT
BEGIN:STANDARD
TZOFFSETFROM:-0500
TZOFFSETTO:-0600
TZNAME:CST
DTSTART:20191103T070000
END:STANDARD
BEGIN:DAYLIGHT
TZOFFSETFROM:-0600
TZOFFSETTO:-0500
TZNAME:CDT
DTSTART:20200308T080000
END:DAYLIGHT
BEGIN:STANDARD
TZOFFSETFROM:-0500
TZOFFSETTO:-0600
TZNAME:CST
DTSTART:20201101T070000
END:STANDARD
END:VTIMEZONE
BEGIN:VEVENT
DTSTART;TZID=America/Chicago:20190601T160000
DTEND;TZID=America/Chicago:20190601T220000
DTSTAMP:20260421T064821
CREATED:20200116T211804Z
LAST-MODIFIED:20200224T213241Z
UID:10000363-1559404800-1559426400@www.gravesgilbert.com
SUMMARY:Dairy Potter 2019
DESCRIPTION:  \n \nPlease join us for our third annual Dairy Potter benefiting Hope Harbor\, Inc. and hosted by Chaney’s Dairy Barn. This year we will bring back the much loved Harry Potter themed activities including wand making\, sorting hat\, costume contest\, silent auction\, and new activities like spell casting! Entry to event and movie are free\, some activities have small charges. Chaney’s will be making Butterbeer ice cream floats and playing Harry Potter and the Prisoner of Azkaban on the outdoor screen when the sun goes down. \nMore details to come. We will see you at Hogwarts on Saturday\, June 1! \nThank you to our sponsors that make this possible!\nGraves Gilbert Clinic\nService One Credit Union\nBowling Green Municipal Utilities \nHope Harbor\, Inc. provides free and confidential services to anyone impacted by sexual violence. Services include our 24/7 crisis hotline\, 24/7 emergency advocacy\, counseling\, legal advocacy\, community education programs\, professional trainings\, and volunteer program. For more information or support\, please call 270.846.1100
URL:https://www.gravesgilbert.com/event/dairy-potter-2019/
LOCATION:Chaney’s Dairy Barn\, 9191 Nashville Rd\, Bowling Green\, KY\, 42101\, United States
END:VEVENT
END:VCALENDAR