BEGIN:VCALENDAR
VERSION:2.0
PRODID:-//Graves Gilbert Clinic - ECPv6.15.20//NONSGML v1.0//EN
CALSCALE:GREGORIAN
METHOD:PUBLISH
X-WR-CALNAME:Graves Gilbert Clinic
X-ORIGINAL-URL:https://www.gravesgilbert.com
X-WR-CALDESC:Events for Graves Gilbert Clinic
REFRESH-INTERVAL;VALUE=DURATION:PT1H
X-Robots-Tag:noindex
X-PUBLISHED-TTL:PT1H
BEGIN:VTIMEZONE
TZID:America/Chicago
BEGIN:DAYLIGHT
TZOFFSETFROM:-0600
TZOFFSETTO:-0500
TZNAME:CDT
DTSTART:20180311T080000
END:DAYLIGHT
BEGIN:STANDARD
TZOFFSETFROM:-0500
TZOFFSETTO:-0600
TZNAME:CST
DTSTART:20181104T070000
END:STANDARD
BEGIN:DAYLIGHT
TZOFFSETFROM:-0600
TZOFFSETTO:-0500
TZNAME:CDT
DTSTART:20190310T080000
END:DAYLIGHT
BEGIN:STANDARD
TZOFFSETFROM:-0500
TZOFFSETTO:-0600
TZNAME:CST
DTSTART:20191103T070000
END:STANDARD
BEGIN:DAYLIGHT
TZOFFSETFROM:-0600
TZOFFSETTO:-0500
TZNAME:CDT
DTSTART:20200308T080000
END:DAYLIGHT
BEGIN:STANDARD
TZOFFSETFROM:-0500
TZOFFSETTO:-0600
TZNAME:CST
DTSTART:20201101T070000
END:STANDARD
END:VTIMEZONE
BEGIN:VEVENT
DTSTART;TZID=America/Chicago:20190413T073000
DTEND;TZID=America/Chicago:20190413T230000
DTSTAMP:20260424T200215
CREATED:20190402T183850Z
LAST-MODIFIED:20190402T183850Z
UID:10000330-1555140600-1555196400@www.gravesgilbert.com
SUMMARY:13th Annual LifeSkills Run for Autism @ Bowling Green Ballpark
DESCRIPTION:Mark your calendar and begin training for the 13th annual LifeSkills Run for Autism! This event will include something for everyone: a 4 Mile Run\, a 1 Mile Kid’s Run\, and a 1 Mile Fun Walk. The event will take place at the Bowling Green Ballpark\, home of the Bowling Green Hot Rods. \nRegistration must be received by March 31st to be guaranteed an event T-shirt. \n** Children (12 & Under) walk free with a paid adult\, but registration must be completed. The 1 Mile Kid’s Fun Run is a separate event. \n**Fees are non-refundable and non-transferable. \nRace Schedule\nFriday\, April 12\, 2019- Pre-Registration pick up at Suzanne Vitale Clinical Education Complex \n4:00 pm – 6:00 pm (registration pick up WILL NOT be avaliable prior to 4:00 pm) \nSaturday\, April 13\, 2019 – Bowling Green Ballpark – 8th Avenue \n**Free parking will be available at the parking structure at Stadium Park Plaza** \n7:00 am – 7:30 am – Late Registration (T-shirt NOT guaranteed) **on-site registration will be cash or check ONLY** \nPre-Registered Participants will pick up race number and t-shirt. \n7:30 am – Run Registration Closes – Registration Continues for Kids’ Fun Run and 1 Mile Family Walk \n7:50 am – 4 Mile Run participants move to the start line \n8:00 am – 4 Mile Run Start \n8:50 am – 1 Mile Kid’s Fun Run participants move to the start line \n9:00 am – 1 Mile Kid’s Fun Run Start \n9:20 am – 1 Mile Family Walk participants move to the start line \n9:30 am – 1 Mile Family Walk Start \n10:00 am – Awards Ceremony
URL:https://www.gravesgilbert.com/event/13th-annual-lifeskills-run-for-autism-bowling-green-ballpark/
LOCATION:Kentucky
ATTACH;FMTTYPE=image/jpeg:https://www.gravesgilbert.com/wp-content/uploads/2014/05/Paired.Runners.jpg
END:VEVENT
END:VCALENDAR